View In:
ArcGIS JavaScript
EEA Discomap Portal
ArcGIS Earth
Service Description: MR_VPP/Large_integral_productivity_2000_2019
Name: MR_VPP/Large_integral_productivity_2000_2019
Description:
Single Fused Map Cache: false
Extent:
XMin: -2.00375E7
YMin: 1160499.9999983418
XMax: 2.00375E7
YMax: 3.0240999999956787E7
Spatial Reference: 102100
(3857)
Initial Extent:
XMin: -2.00375E7
YMin: 1160499.9999983418
XMax: 2.00375E7
YMax: 3.0240999999956787E7
Spatial Reference: 102100
(3857)
Full Extent:
XMin: -2.00375E7
YMin: 1160499.9999983418
XMax: 2.00375E7
YMax: 3.0240999999956787E7
Spatial Reference: 102100
(3857)
Time Info:
Start Time Field: DATE
End Time Field: DATE
Time Extent:
[2000/01/01 00:00:00 UTC, 2019/01/01 00:00:00 UTC]
Time Reference:
N/A
Pixel Size X: 500.0
Pixel Size Y: 499.99999999928554
Band Count: 1
Pixel Type: S16
RasterFunction Infos: {"rasterFunctionInfos": [
{
"help": "",
"name": "LINT",
"description": "A raster function template."
},
{
"help": "",
"name": "None",
"description": "A No-Op Function."
}
]}
Mensuration Capabilities: Basic
Inspection Capabilities:
Has Histograms: true
Has Colormap: false
Has Multi Dimensions : false
Rendering Rule:
Min Scale: 0
Max Scale: 0
Resampling: false
Copyright Text:
Service Data Type: esriImageServiceDataTypeThematic
Min Values: 1
Max Values: 8037
Mean Values: 927.27625690117145
Standard Deviation Values: 579.30359840873439
Object ID Field: OBJECTID
Fields:
-
OBJECTID
(
alias: OBJECTID, type: esriFieldTypeOID
)
-
Shape
(
alias: Shape, type: esriFieldTypeGeometry
)
-
Name
(
length: 200, alias: Name, type: esriFieldTypeString
)
-
MinPS
(
alias: MinPS, type: esriFieldTypeDouble
)
-
MaxPS
(
alias: MaxPS, type: esriFieldTypeDouble
)
-
LowPS
(
alias: LowPS, type: esriFieldTypeDouble
)
-
HighPS
(
alias: HighPS, type: esriFieldTypeDouble
)
-
Category
(
alias: Category, type: esriFieldTypeInteger
, Coded Values:
[0: Unknown]
, [1: Primary]
, [2: Overview]
, ...6 more...
)
-
Tag
(
length: 100, alias: Tag, type: esriFieldTypeString
)
-
GroupName
(
length: 100, alias: GroupName, type: esriFieldTypeString
)
-
ProductName
(
length: 100, alias: ProductName, type: esriFieldTypeString
)
-
CenterX
(
alias: CenterX, type: esriFieldTypeDouble
)
-
CenterY
(
alias: CenterY, type: esriFieldTypeDouble
)
-
ZOrder
(
alias: ZOrder, type: esriFieldTypeInteger
)
-
Shape_Length
(
alias: Shape_Length, type: esriFieldTypeDouble
)
-
Shape_Area
(
alias: Shape_Area, type: esriFieldTypeDouble
)
-
DATE
(
length: 8, alias: DATE, type: esriFieldTypeDate
)
Default Mosaic Method: Northwest
Allowed Mosaic Methods: NorthWest,Center,LockRaster,ByAttribute,Nadir,Viewpoint,Seamline,None
SortField:
SortValue: N/A
Mosaic Operator: First
Default Compression Quality: 75
Default Resampling Method: Nearest
Max Record Count: 1000
Max Image Height: 4100
Max Image Width: 15000
Max Download Image Count: 1000
Max Mosaic Image Count: 1000
Allow Raster Function: true
Allow Copy: true
Allow Analysis: true
Allow Compute TiePoints: false
Supports Statistics: true
Supports Advanced Queries: true
Use StandardizedQueries: true
Raster Type Infos:
Name: Raster Dataset
Description: Supports all ArcGIS Raster Datasets
Help:
Has Raster Attribute Table: false
Edit Fields Info: N/A
Ownership Based AccessControl For Rasters: N/A
Child Resources:
Info
Histograms
Statistics
Key Properties
Legend
Raster Function Infos
Supported Operations:
Export Image
Query
Identify
Measure
Compute Histograms
Compute Statistics Histograms
Get Samples
Compute Class Statistics
Query GPS Info
Find Images
Image to Map
Map to Image
Measure from Image
Image to Map Multiray
Query Boundary
Compute Pixel Location
Compute Angles
Validate
Project