View In:
ArcGIS JavaScript
EEA Discomap Portal
ArcGIS Earth
Service Description: GioLandPublic/Small_Woody_Features_2018_5m_tif
Name: GioLandPublic/Small_Woody_Features_2018_5m_tif
Description:
Single Fused Map Cache: false
Extent:
XMin: 788160.0
YMin: 893280.0
XMax: 7417200.0
YMax: 5500560.0
Spatial Reference: 3035
(3035)
Initial Extent:
XMin: 788160.0
YMin: 893280.0
XMax: 7417200.0
YMax: 5500560.0
Spatial Reference: 3035
(3035)
Full Extent:
XMin: 788160.0
YMin: 893280.0
XMax: 7417200.0
YMax: 5500560.0
Spatial Reference: 3035
(3035)
Pixel Size X: 240.0
Pixel Size Y: 240.0
Band Count: 1
Pixel Type: U8
RasterFunction Infos: {"rasterFunctionInfos": [{
"help": "",
"name": "None",
"description": ""
}]}
Mensuration Capabilities: Basic
Inspection Capabilities:
Has Histograms: true
Has Colormap: false
Has Multi Dimensions : false
Rendering Rule:
Min Scale: 0
Max Scale: 0
Copyright Text:
Service Data Type: esriImageServiceDataTypeThematic
Min Values: 1
Max Values: 253
Mean Values: 17.809357532589999
Standard Deviation Values: 60.938348121983999
Object ID Field:
Fields:
None
Default Mosaic Method: Center
Allowed Mosaic Methods:
SortField:
SortValue: N/A
Mosaic Operator: First
Default Compression Quality: 75
Default Resampling Method: Bilinear
Max Record Count: null
Max Image Height: 4100
Max Image Width: 15000
Max Download Image Count: null
Max Mosaic Image Count: null
Allow Raster Function: true
Allow Copy: true
Allow Analysis: true
Allow Compute TiePoints: false
Supports Statistics: false
Supports Advanced Queries: false
Use StandardizedQueries: false
Raster Type Infos:
Name: Raster Dataset
Description: Supports all ArcGIS Raster Datasets
Help:
Has Raster Attribute Table: true
Edit Fields Info: N/A
Ownership Based AccessControl For Rasters: N/A
Child Resources:
Info
Raster Attribute Table
Histograms
Statistics
Key Properties
Legend
Raster Function Infos
Supported Operations:
Export Image
Identify
Measure
Compute Histograms
Compute Statistics Histograms
Get Samples
Compute Class Statistics
Query Boundary
Compute Pixel Location
Compute Angles
Validate
Project