View In:
ArcGIS JavaScript
EEA Discomap Portal
ArcGIS Earth
Service Description: GioLandPublic/HRL_DominantLeafType2018
Name: GioLandPublic/HRL_DominantLeafType2018
Description:
Single Fused Map Cache: false
Extent:
XMin: 900000.0
YMin: 900000.0
XMax: 7400000.0
YMax: 5500000.0
Spatial Reference: 3035
(3035)
Initial Extent:
XMin: 900000.0
YMin: 900000.0
XMax: 7400000.0
YMax: 5500000.0
Spatial Reference: 3035
(3035)
Full Extent:
XMin: 900000.0
YMin: 900000.0
XMax: 7400000.0
YMax: 5500000.0
Spatial Reference: 3035
(3035)
Pixel Size X: 10.0
Pixel Size Y: 10.0
Band Count: 1
Pixel Type: U8
RasterFunction Infos: {"rasterFunctionInfos": [
{
"help": "",
"name": "DLT2018_Mask",
"description": "Mask 255 values"
},
{
"help": "",
"name": "None",
"description": "Make a Raster or Raster Dataset into a Function Raster Dataset."
}
]}
Mensuration Capabilities: Basic
Inspection Capabilities:
Has Histograms: true
Has Colormap: true
Has Multi Dimensions : false
Rendering Rule:
Min Scale: 0
Max Scale: 0
Copyright Text:
Service Data Type: esriImageServiceDataTypeThematic
Min Values: 0
Max Values: 2
Mean Values: 0.52959268842545004
Standard Deviation Values: 0.75104933262758
Object ID Field:
Fields:
None
Default Mosaic Method: Center
Allowed Mosaic Methods:
SortField:
SortValue: N/A
Mosaic Operator: First
Default Compression Quality: 75
Default Resampling Method: Bilinear
Max Record Count: null
Max Image Height: 4100
Max Image Width: 15000
Max Download Image Count: null
Max Mosaic Image Count: null
Allow Raster Function: true
Allow Copy: true
Allow Analysis: true
Allow Compute TiePoints: false
Supports Statistics: false
Supports Advanced Queries: false
Use StandardizedQueries: false
Raster Type Infos:
Name: Raster Dataset
Description: Supports all ArcGIS Raster Datasets
Help:
Has Raster Attribute Table: true
Edit Fields Info: N/A
Ownership Based AccessControl For Rasters: N/A
Child Resources:
Info
Raster Attribute Table
Histograms
Statistics
Key Properties
Color Map
Legend
Raster Function Infos
Supported Operations:
Export Image
Identify
Measure
Compute Histograms
Compute Statistics Histograms
Get Samples
Compute Class Statistics
Query Boundary
Compute Pixel Location
Compute Angles
Validate
Project