View In:
ArcGIS JavaScript
🌍 EEA Discomap Portal
ArcGIS Earth
ArcMap
View Footprint In:
🌍 EEA Discomap Portal
Service Description: GioLandPublic/HRL_DominantLeafType2015
Name: GioLandPublic/HRL_DominantLeafType2015
Description:
Single Fused Map Cache: false
Extent:
XMin: 900000
YMin: 900000
XMax: 7400000
YMax: 5500000
Spatial Reference: 3035
(3035)
Initial Extent:
XMin: 900000
YMin: 900000
XMax: 7400000
YMax: 5500000
Spatial Reference: 3035
(3035)
Full Extent:
XMin: 900000
YMin: 900000
XMax: 7400000
YMax: 5500000
Spatial Reference: 3035
(3035)
Pixel Size X: 20.0
Pixel Size Y: 20.0
Band Count: 1
Pixel Type: U8
RasterFunction Infos: {"rasterFunctionInfos": [
{
"name": "DLT_2015",
"description": "remap - attribute table",
"help": ""
},
{
"name": "None",
"description": "Make a Raster or Raster Dataset into a Function Raster Dataset.",
"help": ""
}
]}
Mensuration Capabilities: Basic
Has Histograms: true
Has Colormap: true
Has Multi Dimensions : false
Rendering Rule:
Min Scale: 0
Max Scale: 0
Copyright Text:
Service Data Type: esriImageServiceDataTypeThematic
Min Values: 0
Max Values: 255
Mean Values: 205.14931059286
Standard Deviation Values: 100.99735383321
Object ID Field:
Fields:
None
Default Mosaic Method: Center
Allowed Mosaic Methods:
SortField:
SortValue: null
Mosaic Operator: First
Default Compression Quality: 75
Default Resampling Method: Nearest
Max Record Count: null
Max Image Height: 4100
Max Image Width: 15000
Max Download Image Count: null
Max Mosaic Image Count: null
Allow Raster Function: true
Allow Copy: true
Allow Analysis: true
Allow Compute TiePoints: false
Supports Statistics: false
Supports Advanced Queries: false
Use StandardizedQueries: true
Raster Type Infos:
Name: Raster Dataset
Description: Supports all ArcGIS Raster Datasets
Help:
Has Raster Attribute Table: true
Edit Fields Info: null
Ownership Based AccessControl For Rasters: null
Child Resources:
Info
Raster Attribute Table
Histograms
Statistics
Key Properties
Color Map
Legend
Raster Function Infos
Supported Operations:
Export Image
Identify
Measure
Compute Histograms
Compute Statistics Histograms
Get Samples
Compute Class Statistics
Query Boundary
Compute Pixel Location
Compute Angles
Validate
Project