View In:
ArcGIS JavaScript
🌍 EEA Discomap Portal
ArcGIS Earth
ArcMap
View Footprint In:
🌍 EEA Discomap Portal
Service Description: The European Settlement Map is a spatial raster dataset that is mapping human settlements in Europe based on Copernicus Very High Resolution optical coverage for reference year 2015 (VHR_IMAGE_2015).
It follows-up on the previous ESM2012_R2016 and ESM2012_R2017 derived from 2.5 m resolution SPOT-5/6 images acquired in the context of the pan-European GMES/Copernicus (Core_003) dataset for the reference year 2012.
The ESM_2015 product exploits the Copernicus VHR_IMAGE_2015 dataset made of satellite images Pleiades, Deimos-02, WorldView-2, WorldView-3, GeoEye-01 and Spot 6/7 ranging from 2014 to 2016.
Name: GioLandPublic/ESM2015_R2019_WM
Description: The European Settlement Map is a spatial raster dataset that is mapping human settlements in Europe based on Copernicus Very High Resolution optical coverage for reference year 2015 (VHR_IMAGE_2015).
It follows-up on the previous ESM2012_R2016 and ESM2012_R2017 derived from 2.5 m resolution SPOT-5/6 images acquired in the context of the pan-European GMES/Copernicus (Core_003) dataset for the reference year 2012.
The ESM_2015 product exploits the Copernicus VHR_IMAGE_2015 dataset made of satellite images Pleiades, Deimos-02, WorldView-2, WorldView-3, GeoEye-01 and Spot 6/7 ranging from 2014 to 2016.
Single Fused Map Cache: false
Extent:
XMin: -3641878.5
YMin: 3113412
XMax: 5056941.5
YMax: 11679986
Spatial Reference: 102100
(3857)
Initial Extent:
XMin: -3641878.5
YMin: 3113412
XMax: 5056941.5
YMax: 11679986
Spatial Reference: 102100
(3857)
Full Extent:
XMin: -3641878.5
YMin: 3113412
XMax: 5056941.5
YMax: 11679986
Spatial Reference: 102100
(3857)
Pixel Size X: 2.0
Pixel Size Y: 2.0
Band Count: 1
Pixel Type: U8
RasterFunction Infos: {"rasterFunctionInfos": [{
"name": "None",
"description": "A No-Op Function.",
"help": ""
}]}
Mensuration Capabilities: None
Has Histograms: true
Has Colormap: false
Has Multi Dimensions : false
Rendering Rule:
Min Scale: 0
Max Scale: 0
Copyright Text: JRC, EEA
Service Data Type: esriImageServiceDataTypeThematic
Min Values: 0
Max Values: 255
Mean Values: 3.092554555231015
Standard Deviation Values: 20.82128724326458
Object ID Field: OBJECTID
Fields:
-
OBJECTID
(
type: esriFieldTypeOID, alias: OBJECTID
)
-
Shape
(
type: esriFieldTypeGeometry, alias: Shape
)
-
Name
(
type: esriFieldTypeString, alias: Name, length: 200
)
-
MinPS
(
type: esriFieldTypeDouble, alias: MinPS
)
-
MaxPS
(
type: esriFieldTypeDouble, alias: MaxPS
)
-
LowPS
(
type: esriFieldTypeDouble, alias: LowPS
)
-
HighPS
(
type: esriFieldTypeDouble, alias: HighPS
)
-
Category
(
type: esriFieldTypeInteger, alias: Category
, Coded Values:
[0: Unknown]
, [1: Primary]
, [2: Overview]
, ...6 more...
)
-
Tag
(
type: esriFieldTypeString, alias: Tag, length: 100
)
-
GroupName
(
type: esriFieldTypeString, alias: GroupName, length: 100
)
-
ProductName
(
type: esriFieldTypeString, alias: ProductName, length: 100
)
-
CenterX
(
type: esriFieldTypeDouble, alias: CenterX
)
-
CenterY
(
type: esriFieldTypeDouble, alias: CenterY
)
-
ZOrder
(
type: esriFieldTypeInteger, alias: ZOrder
)
-
Shape_Length
(
type: esriFieldTypeDouble, alias: Shape_Length
)
-
Shape_Area
(
type: esriFieldTypeDouble, alias: Shape_Area
)
Default Mosaic Method: Northwest
Allowed Mosaic Methods: NorthWest,Center,LockRaster,ByAttribute,Nadir,Viewpoint,Seamline,None
SortField:
SortValue: null
Mosaic Operator: First
Default Compression Quality: 75
Default Resampling Method: Nearest
Max Record Count: 1000
Max Image Height: 4100
Max Image Width: 15000
Max Download Image Count: 20
Max Mosaic Image Count: 20
Allow Raster Function: true
Allow Copy: true
Allow Analysis: true
Allow Compute TiePoints: false
Supports Statistics: true
Supports Advanced Queries: true
Use StandardizedQueries: true
Raster Type Infos:
Name: Raster Dataset
Description: Supports all ArcGIS Raster Datasets
Help:
Has Raster Attribute Table: true
Edit Fields Info: null
Ownership Based AccessControl For Rasters: null
Child Resources:
Info
Raster Attribute Table
Histograms
Statistics
Key Properties
Legend
Raster Function Infos
Supported Operations:
Export Image
Query
Identify
Compute Histograms
Compute Statistics Histograms
Get Samples
Compute Class Statistics
Query Boundary
Compute Pixel Location
Compute Angles
Validate
Project