View In:
ArcGIS JavaScript
🌍 EEA Discomap Portal
ArcGIS Earth
Service Description: CLC+ Backbone is a spatially detailed, large scale, EO-based land cover inventory. The CLC+ Backbone Raster Product is a 10m pixel-based land cover map based on Sentinel time series from October 2020 to March 2022. Notes: The service is used on the CLMS Portal (https://land.copernicus.eu/en)
Name: CLC_plus/CLMS_CLCplus_RASTER_2021_010m_eu
Description: CLC+ Backbone is a spatially detailed, large scale, EO-based land cover inventory. The CLC+ Backbone Raster Product is a 10m pixel-based land cover map based on Sentinel time series from October 2020 to March 2022. Notes: The service is used on the CLMS Portal (https://land.copernicus.eu/en)
Single Fused Map Cache: false
Extent:
XMin: 900000.0
YMin: 900000.0
XMax: 7400000.0
YMax: 5500000.0
Spatial Reference: 3035
(3035)
LatestVCSWkid(0)
Initial Extent:
XMin: 900000.0
YMin: 900000.0
XMax: 7400000.0
YMax: 5500000.0
Spatial Reference: 3035
(3035)
LatestVCSWkid(0)
Full Extent:
XMin: 900000.0
YMin: 900000.0
XMax: 7400000.0
YMax: 5500000.0
Spatial Reference: 3035
(3035)
LatestVCSWkid(0)
Pixel Size X: 10.0
Pixel Size Y: 10.0
Band Count: 1
Pixel Type: U8
RasterFunction Infos: {"rasterFunctionInfos": [{
"name": "None",
"description": "",
"help": ""
}]}
Mensuration Capabilities: Basic
Inspection Capabilities:
Has Histograms: true
Has Colormap: true
Has Multi Dimensions : false
Rendering Rule:
Min Scale: 0
Max Scale: 0
Resampling: false
Copyright Text:
Service Data Type: esriImageServiceDataTypeThematic
Min Values: 1
Max Values: 11
Mean Values: 5.0455865352891
Standard Deviation Values: 2.2987920713557
Object ID Field:
Fields:
None
Default Mosaic Method: Center
Allowed Mosaic Methods:
SortField:
SortValue: null
Mosaic Operator: First
Default Compression Quality: 75
Default Resampling Method: Nearest
Max Record Count: null
Max Image Height: 4100
Max Image Width: 15000
Max Download Image Count: null
Max Mosaic Image Count: null
Allow Raster Function: true
Allow Copy: true
Allow Analysis: true
Allow Compute TiePoints: false
Supports Statistics: false
Supports Advanced Queries: false
Use StandardizedQueries: true
Raster Type Infos:
Name: Raster Dataset
Description: Supports all ArcGIS Raster Datasets
Help:
Has Raster Attribute Table: true
Edit Fields Info: null
Ownership Based AccessControl For Rasters: null
Child Resources:
Info
Raster Attribute Table
Histograms
Statistics
Key Properties
Color Map
Legend
Raster Function Infos
Supported Operations:
Export Image
Identify
Measure
Compute Histograms
Compute Statistics Histograms
Get Samples
Compute Class Statistics
Query Boundary
Compute Pixel Location
Compute Angles
Validate
Project