View In:
ArcGIS JavaScript
🌍 EEA Discomap Portal
ArcGIS Earth
Service Description: The HRL Grassland 2018 raster product has been created in frame of the “EEA/IDM/R0/18/009 - High Resolution land cover characteristics for the 2018 reference year” as part of the EEA Copernicus Land Monitoring Service (CLMS, https://land.copernicus.eu/). The HRL Grassland 2018 Raster product provides a basic land cover classification with 2 thematic classes (grassland / non-grassland) at 10m spatial resolution and will cover the pan-European area of EEA39. More about the High Resolution Layers and CLMS datasets can be found at https://land.copernicus.eu/pan-european.
Name: GioLandPublic/HRL_Grassland_2018
Description: The HRL Grassland 2018 raster product has been created in frame of the “EEA/IDM/R0/18/009 - High Resolution land cover characteristics for the 2018 reference year” as part of the EEA Copernicus Land Monitoring Service (CLMS, https://land.copernicus.eu/). The HRL Grassland 2018 Raster product provides a basic land cover classification with 2 thematic classes (grassland / non-grassland) at 10m spatial resolution and will cover the pan-European area of EEA39. More about the High Resolution Layers and CLMS datasets can be found at https://land.copernicus.eu/pan-european.
Single Fused Map Cache: false
Extent:
XMin: 900000
YMin: 900000
XMax: 7400000
YMax: 5500000
Spatial Reference: 3035
(3035)
Initial Extent:
XMin: 900000
YMin: 900000
XMax: 7400000
YMax: 5500000
Spatial Reference: 3035
(3035)
Full Extent:
XMin: 900000
YMin: 900000
XMax: 7400000
YMax: 5500000
Spatial Reference: 3035
(3035)
Pixel Size X: 10.0
Pixel Size Y: 10.0
Band Count: 1
Pixel Type: U8
RasterFunction Infos: {"rasterFunctionInfos": [{
"name": "None",
"description": "Make a Raster or Raster Dataset into a Function Raster Dataset.",
"help": ""
}]}
Mensuration Capabilities: None
Inspection Capabilities:
Has Histograms: true
Has Colormap: false
Has Multi Dimensions : false
Rendering Rule:
Min Scale: 0
Max Scale: 0
Copyright Text: European Environment Agency (EEA)
Service Data Type: esriImageServiceDataTypeThematic
Min Values: 0
Max Values: 255
Mean Values: 71.31649274999752
Standard Deviation Values: 114.25914519581073
Object ID Field: OBJECTID
Fields:
-
OBJECTID
(
type: esriFieldTypeOID, alias: OBJECTID
)
-
Shape
(
type: esriFieldTypeGeometry, alias: Shape
)
-
Name
(
type: esriFieldTypeString, alias: Name, length: 200
)
-
MinPS
(
type: esriFieldTypeDouble, alias: MinPS
)
-
MaxPS
(
type: esriFieldTypeDouble, alias: MaxPS
)
-
LowPS
(
type: esriFieldTypeDouble, alias: LowPS
)
-
HighPS
(
type: esriFieldTypeDouble, alias: HighPS
)
-
Category
(
type: esriFieldTypeInteger, alias: Category
, Coded Values:
[0: Unknown]
, [1: Primary]
, [2: Overview]
, ...6 more...
)
-
Tag
(
type: esriFieldTypeString, alias: Tag, length: 100
)
-
GroupName
(
type: esriFieldTypeString, alias: GroupName, length: 100
)
-
ProductName
(
type: esriFieldTypeString, alias: ProductName, length: 100
)
-
CenterX
(
type: esriFieldTypeDouble, alias: CenterX
)
-
CenterY
(
type: esriFieldTypeDouble, alias: CenterY
)
-
ZOrder
(
type: esriFieldTypeInteger, alias: ZOrder
)
-
Shape_Length
(
type: esriFieldTypeDouble, alias: Shape_Length
)
-
Shape_Area
(
type: esriFieldTypeDouble, alias: Shape_Area
)
Default Mosaic Method: Northwest
Allowed Mosaic Methods: NorthWest,Center,LockRaster,ByAttribute,Nadir,Viewpoint,Seamline,None
SortField:
SortValue: null
Mosaic Operator: First
Default Compression Quality: 75
Default Resampling Method: Nearest
Max Record Count: 1000
Max Image Height: 4100
Max Image Width: 15000
Max Download Image Count: 20
Max Mosaic Image Count: 30
Allow Raster Function: true
Allow Copy: true
Allow Analysis: true
Allow Compute TiePoints: false
Supports Statistics: true
Supports Advanced Queries: true
Use StandardizedQueries: true
Raster Type Infos:
Name: Raster Dataset
Description: Supports all ArcGIS Raster Datasets
Help:
Has Raster Attribute Table: true
Edit Fields Info: null
Ownership Based AccessControl For Rasters: null
Child Resources:
Info
Raster Attribute Table
Histograms
Statistics
Key Properties
Legend
Raster Function Infos
Supported Operations:
Export Image
Query
Identify
Compute Histograms
Compute Statistics Histograms
Get Samples
Compute Class Statistics
Query GPS Info
Find Images
Image to Map
Map to Image
Measure from Image
Image to Map Multiray
Query Boundary
Compute Pixel Location
Compute Angles
Validate
Project