View In:
ArcGIS JavaScript
🌍 EEA Discomap Portal
ArcGIS Earth
Service Description: https://sdi.eea.europa.eu/catalogue/srv/api/records/f97a2763-748c-4687-a141-685e954eb2dd
Name: GioLand/HRIM_HR_TrueColour_2018
Description: https://sdi.eea.europa.eu/catalogue/srv/api/records/f97a2763-748c-4687-a141-685e954eb2dd
Single Fused Map Cache: false
Extent:
XMin: -3493783.688858837
YMin: 3191895.6456465386
XMax: 5001886.256925333
YMax: 1.1496874315116266E7
Spatial Reference: 102100
(3857)
Initial Extent:
XMin: -3493783.688858837
YMin: 3191895.6456465386
XMax: 5001886.256925333
YMax: 1.1496874315116266E7
Spatial Reference: 102100
(3857)
Full Extent:
XMin: -3493783.688858837
YMin: 3191895.6456465386
XMax: 5001886.256925333
YMax: 1.1496874315116266E7
Spatial Reference: 102100
(3857)
Pixel Size X: 19.109257071293996
Pixel Size Y: 19.109257071293996
Band Count: 3
Pixel Type: U16
RasterFunction Infos: {"rasterFunctionInfos": [{
"name": "None",
"description": "",
"help": ""
}]}
Mensuration Capabilities: None
Inspection Capabilities:
Has Histograms: true
Has Colormap: false
Has Multi Dimensions : false
Rendering Rule:
Min Scale: 0
Max Scale: 0
Copyright Text:
Service Data Type: esriImageServiceDataTypeGeneric
Min Values: 24.091796875, 24.841796875, 25.732421875
Max Values: 11800.908203125, 12184.158203125, 12639.267578125
Mean Values: 274.16777375371066, 324.1304475351688, 473.78324384903607
Standard Deviation Values: 342.61251166768267, 354.5368898546202, 351.98900923798624
Object ID Field: OBJECTID
Fields:
-
OBJECTID
(
type: esriFieldTypeOID, alias: OBJECTID
)
-
Shape
(
type: esriFieldTypeGeometry, alias: Shape
)
-
Name
(
type: esriFieldTypeString, alias: Name, length: 200
)
-
MinPS
(
type: esriFieldTypeDouble, alias: MinPS
)
-
MaxPS
(
type: esriFieldTypeDouble, alias: MaxPS
)
-
LowPS
(
type: esriFieldTypeDouble, alias: LowPS
)
-
HighPS
(
type: esriFieldTypeDouble, alias: HighPS
)
-
Category
(
type: esriFieldTypeInteger, alias: Category
, Coded Values:
[0: Unknown]
, [1: Primary]
, [2: Overview]
, ...6 more...
)
-
Tag
(
type: esriFieldTypeString, alias: Tag, length: 100
)
-
GroupName
(
type: esriFieldTypeString, alias: GroupName, length: 100
)
-
ProductName
(
type: esriFieldTypeString, alias: ProductName, length: 100
)
-
CenterX
(
type: esriFieldTypeDouble, alias: CenterX
)
-
CenterY
(
type: esriFieldTypeDouble, alias: CenterY
)
-
ZOrder
(
type: esriFieldTypeInteger, alias: ZOrder
)
-
Shape_Length
(
type: esriFieldTypeDouble, alias: Shape_Length
)
-
Shape_Area
(
type: esriFieldTypeDouble, alias: Shape_Area
)
Default Mosaic Method: Northwest
Allowed Mosaic Methods: NorthWest,Center,LockRaster,ByAttribute,Nadir,Viewpoint,Seamline,None
SortField:
SortValue: null
Mosaic Operator: First
Default Compression Quality: 75
Default Resampling Method: Bilinear
Max Record Count: 1000
Max Image Height: 4100
Max Image Width: 15000
Max Download Image Count: 20
Max Mosaic Image Count: 20
Allow Raster Function: true
Allow Copy: true
Allow Analysis: true
Allow Compute TiePoints: false
Supports Statistics: true
Supports Advanced Queries: true
Use StandardizedQueries: true
Raster Type Infos:
Name: Raster Dataset
Description: Supports all ArcGIS Raster Datasets
Help:
Has Raster Attribute Table: false
Edit Fields Info: null
Ownership Based AccessControl For Rasters: null
Child Resources:
Info
Histograms
Statistics
Key Properties
Legend
Raster Function Infos
Supported Operations:
Export Image
Query
Identify
Compute Histograms
Compute Statistics Histograms
Get Samples
Compute Class Statistics
Query GPS Info
Find Images
Image to Map
Map to Image
Measure from Image
Image to Map Multiray
Query Boundary
Compute Pixel Location
Compute Angles
Validate
Project